BEGIN:VCALENDAR
VERSION:2.0
PRODID:-//The 24 Hour Plays - ECPv5.3.0//NONSGML v1.0//EN
CALSCALE:GREGORIAN
METHOD:PUBLISH
X-WR-CALNAME:The 24 Hour Plays
X-ORIGINAL-URL:https://24hourplays.com
X-WR-CALDESC:Events for The 24 Hour Plays
BEGIN:VTIMEZONE
TZID:America/New_York
BEGIN:DAYLIGHT
TZOFFSETFROM:-0500
TZOFFSETTO:-0400
TZNAME:EDT
DTSTART:20200308T070000
END:DAYLIGHT
BEGIN:STANDARD
TZOFFSETFROM:-0400
TZOFFSETTO:-0500
TZNAME:EST
DTSTART:20201101T060000
END:STANDARD
END:VTIMEZONE
BEGIN:VEVENT
DTSTART;TZID=America/New_York:20200119T190000
DTEND;TZID=America/New_York:20200119T210000
DTSTAMP:20210519T054953
CREATED:20191122T194801Z
LAST-MODIFIED:20191122T201346Z
UID:6294-1579460400-1579467600@24hourplays.com
SUMMARY:The 24 Hour Plays: University of Miami
DESCRIPTION:About the Show\nThe University of Miami Department of Theatre Arts presents the fourth edition of The 24 Hour Plays: University of Miami. UM students push the collaborative nature of theatre to the max\, working together to write\, rehearse\, produce and perform six plays in 24 hours. \nAbout The 24 Hour Plays\nThe 24 Hour Plays have brought extraordinary artists together to create time-limited theater around the world since 1995. Each show is entirely different than the last\, although the concept is always the same: actors\, writers\, directors and producers come together to make new short plays in only 24 hours. We hope you’ll join our partners for another unforgettable night of theatre!
URL:https://24hourplays.com/event/university-of-miami/
LOCATION:The Jerry Herman Ring Theatre\, 1312 Miller Dr\, Coral Gables\, FL\, 33146\, United States
END:VEVENT
END:VCALENDAR