BEGIN:VCALENDAR
VERSION:2.0
PRODID:-//The 24 Hour Plays - ECPv5.3.0//NONSGML v1.0//EN
CALSCALE:GREGORIAN
METHOD:PUBLISH
X-WR-CALNAME:The 24 Hour Plays
X-ORIGINAL-URL:https://24hourplays.com
X-WR-CALDESC:Events for The 24 Hour Plays
BEGIN:VTIMEZONE
TZID:America/New_York
BEGIN:DAYLIGHT
TZOFFSETFROM:-0500
TZOFFSETTO:-0400
TZNAME:EDT
DTSTART:20200308T070000
END:DAYLIGHT
BEGIN:STANDARD
TZOFFSETFROM:-0400
TZOFFSETTO:-0500
TZNAME:EST
DTSTART:20201101T060000
END:STANDARD
END:VTIMEZONE
BEGIN:VEVENT
DTSTART;TZID=America/New_York:20200514T160000
DTEND;TZID=America/New_York:20200514T180000
DTSTAMP:20210514T061841
CREATED:20200425T183009Z
LAST-MODIFIED:20200425T183009Z
UID:7025-1589472000-1589479200@24hourplays.com
SUMMARY:The 24 Hour Plays Viral Monologues: TDF's Young Playwrights PLAYlab
DESCRIPTION:About the Show\nNYC student ensemble creates original monologues reflecting the diversity and creativity of this rad group of young playwrights. \nAbout The 24 Hour Plays\nThe 24 Hour Plays have brought extraordinary artists together to create time-limited theater around the world since 1995. Each show is entirely different than the last\, although the concept is always the same: actors\, writers\, directors and producers come together to make new short plays in only 24 hours. We hope you’ll join our partners for another unforgettable night of theatre!
URL:https://24hourplays.com/event/tdf-playlab/
LOCATION:Online!\, United States
END:VEVENT
END:VCALENDAR