BEGIN:VCALENDAR
VERSION:2.0
PRODID:-//The 24 Hour Plays - ECPv5.3.0//NONSGML v1.0//EN
CALSCALE:GREGORIAN
METHOD:PUBLISH
X-WR-CALNAME:The 24 Hour Plays
X-ORIGINAL-URL:https://24hourplays.com
X-WR-CALDESC:Events for The 24 Hour Plays
BEGIN:VTIMEZONE
TZID:America/New_York
BEGIN:DAYLIGHT
TZOFFSETFROM:-0500
TZOFFSETTO:-0400
TZNAME:EDT
DTSTART:20190310T070000
END:DAYLIGHT
BEGIN:STANDARD
TZOFFSETFROM:-0400
TZOFFSETTO:-0500
TZNAME:EST
DTSTART:20191103T060000
END:STANDARD
END:VTIMEZONE
BEGIN:VEVENT
DTSTART;TZID=America/New_York:20191207T183000
DTEND;TZID=America/New_York:20191207T183000
DTSTAMP:20210522T125302
CREATED:20190916T192659Z
LAST-MODIFIED:20191002T202726Z
UID:5836-1575743400-1575743400@24hourplays.com
SUMMARY:The 24 Hour Plays: Bellaire High School
DESCRIPTION:About the Show\nBellaire High School’s Red Bird Productions presents: The 24 Hour Plays. Written\, directed and acted completely by Bellaire students! \nAbout The 24 Hour Plays\nThe 24 Hour Plays have brought extraordinary artists together to create time-limited theater around the world since 1995. Each show is entirely different than the last\, although the concept is always the same: actors\, writers\, directors and producers come together to make new short plays in only 24 hours. We hope you’ll join our partners for another unforgettable night of theatre!
URL:https://24hourplays.com/event/bellaire-hs/
LOCATION:Bellaire High School\, 5100 Maple Street\, Houston\, TX\, 77401\, United States
END:VEVENT
END:VCALENDAR