BEGIN:VCALENDAR
VERSION:2.0
PRODID:-//The 24 Hour Plays - ECPv5.3.0//NONSGML v1.0//EN
CALSCALE:GREGORIAN
METHOD:PUBLISH
X-WR-CALNAME:The 24 Hour Plays
X-ORIGINAL-URL:https://24hourplays.com
X-WR-CALDESC:Events for The 24 Hour Plays
BEGIN:VTIMEZONE
TZID:America/New_York
BEGIN:DAYLIGHT
TZOFFSETFROM:-0500
TZOFFSETTO:-0400
TZNAME:EDT
DTSTART:20200308T070000
END:DAYLIGHT
BEGIN:STANDARD
TZOFFSETFROM:-0400
TZOFFSETTO:-0500
TZNAME:EST
DTSTART:20201101T060000
END:STANDARD
END:VTIMEZONE
BEGIN:VEVENT
DTSTART;TZID=America/New_York:20200222T190000
DTEND;TZID=America/New_York:20200222T210000
DTSTAMP:20210519T182639
CREATED:20200213T192225Z
LAST-MODIFIED:20200213T192225Z
UID:6622-1582398000-1582405200@24hourplays.com
SUMMARY:The 24 Hour Plays: Bakersfield
DESCRIPTION:About the Show\nStudents from all over Bakersfield have come together to create 6 original short plays in 24 hours. From writing\, directing\, acting and design\, the pieces are completely new and student driven. \nAbout The 24 Hour Plays\nThe 24 Hour Plays have brought extraordinary artists together to create time-limited theater around the world since 1995. Each show is entirely different than the last\, although the concept is always the same: actors\, writers\, directors and producers come together to make new short plays in only 24 hours. We hope you’ll join our partners for another unforgettable night of theatre!
URL:https://24hourplays.com/event/bakersfield/
LOCATION:Bakersfield High School\, 1241 G Street\, Bakersfield\, CA\, 93301\, United States
END:VEVENT
END:VCALENDAR